BEGIN:VCALENDAR
VERSION:2.0
PRODID:-//Impronta Etica - ECPv6.15.20//NONSGML v1.0//EN
CALSCALE:GREGORIAN
METHOD:PUBLISH
X-ORIGINAL-URL:https://www.improntaetica.org
X-WR-CALDESC:Eventi per Impronta Etica
REFRESH-INTERVAL;VALUE=DURATION:PT1H
X-Robots-Tag:noindex
X-PUBLISHED-TTL:PT1H
BEGIN:VTIMEZONE
TZID:Europe/Rome
BEGIN:DAYLIGHT
TZOFFSETFROM:+0100
TZOFFSETTO:+0200
TZNAME:CEST
DTSTART:20210328T010000
END:DAYLIGHT
BEGIN:STANDARD
TZOFFSETFROM:+0200
TZOFFSETTO:+0100
TZNAME:CET
DTSTART:20211031T010000
END:STANDARD
BEGIN:DAYLIGHT
TZOFFSETFROM:+0100
TZOFFSETTO:+0200
TZNAME:CEST
DTSTART:20220327T010000
END:DAYLIGHT
BEGIN:STANDARD
TZOFFSETFROM:+0200
TZOFFSETTO:+0100
TZNAME:CET
DTSTART:20221030T010000
END:STANDARD
BEGIN:DAYLIGHT
TZOFFSETFROM:+0100
TZOFFSETTO:+0200
TZNAME:CEST
DTSTART:20230326T010000
END:DAYLIGHT
BEGIN:STANDARD
TZOFFSETFROM:+0200
TZOFFSETTO:+0100
TZNAME:CET
DTSTART:20231029T010000
END:STANDARD
END:VTIMEZONE
BEGIN:VEVENT
DTSTART;TZID=Europe/Rome:20221010T140000
DTEND;TZID=Europe/Rome:20221010T153000
DTSTAMP:20260421T071732
CREATED:20220610T082239Z
LAST-MODIFIED:20220923T082502Z
UID:34941-1665410400-1665415800@www.improntaetica.org
SUMMARY:10\10 | evento finale del progetto Upskill 4 Future
DESCRIPTION:L’Upskilling per affrontare la transizione verde e quella digitale.\nSì terrà il 10 ottobre dalle ore 14.00 alle ore 15.00 nel contesto del SDG Summit 2022 promosso da CSR Europe\, l’evento finale dedicato alla presentazione del Progetto Upskill 4 future. L’evento è organizzato dai partner del progetto: CSR Europe\, Impronta Etica\, Fondazione Sodalitas\, Forética\, RBF Poland. \nIl progetto Upskill 4 Future è un progetto finanziato da JPMorgan Chase Foundation e promosso da CSR Europe nato per supportare aziende e lavoratori nel diventare “a prova di futuro”\, sviluppando la capacità di creare modelli inclusivi di transizioni lavorative nell’era digitale. Si tratta di un progetto internazionale che si è svolto in Italia\, Spagna\, Polonia e Francia. Fondazione Sodalitas e Impronta Etica – in qualità di National Partner Organisation per l’Italia di CSR Europe – sviluppano Upskill 4 Future nel nostro Paese coinvolgendo un gruppo di imprese disponibili a partecipare al progetto pilota di due anni e mezzo per affrontare la sfida del lavoro che cambia insieme ai promotori e alle altre aziende partecipanti\, studiando e identificando nuove soluzioni. \nPer maggiori informazioni circa il progetto contattare info@improntaetica.org \nMaggiori informazioni sono disponibili al seguente link.  \nE’ possibile iscriversi all’SDG Summit 2022 seguente link. 
URL:https://www.improntaetica.org/evento/1010-evento-finale-del-progetto-upskill-4-future/
ATTACH;FMTTYPE=image/jpeg:https://www.improntaetica.org/wp-content/uploads/2020/03/logo_upskill4future.jpg
END:VEVENT
END:VCALENDAR