BEGIN:VCALENDAR
VERSION:2.0
PRODID:-//Impronta Etica - ECPv6.15.20//NONSGML v1.0//EN
CALSCALE:GREGORIAN
METHOD:PUBLISH
X-ORIGINAL-URL:https://www.improntaetica.org
X-WR-CALDESC:Eventi per Impronta Etica
REFRESH-INTERVAL;VALUE=DURATION:PT1H
X-Robots-Tag:noindex
X-PUBLISHED-TTL:PT1H
BEGIN:VTIMEZONE
TZID:Europe/Rome
BEGIN:DAYLIGHT
TZOFFSETFROM:+0100
TZOFFSETTO:+0200
TZNAME:CEST
DTSTART:20210328T010000
END:DAYLIGHT
BEGIN:STANDARD
TZOFFSETFROM:+0200
TZOFFSETTO:+0100
TZNAME:CET
DTSTART:20211031T010000
END:STANDARD
BEGIN:DAYLIGHT
TZOFFSETFROM:+0100
TZOFFSETTO:+0200
TZNAME:CEST
DTSTART:20220327T010000
END:DAYLIGHT
BEGIN:STANDARD
TZOFFSETFROM:+0200
TZOFFSETTO:+0100
TZNAME:CET
DTSTART:20221030T010000
END:STANDARD
BEGIN:DAYLIGHT
TZOFFSETFROM:+0100
TZOFFSETTO:+0200
TZNAME:CEST
DTSTART:20230326T010000
END:DAYLIGHT
BEGIN:STANDARD
TZOFFSETFROM:+0200
TZOFFSETTO:+0100
TZNAME:CET
DTSTART:20231029T010000
END:STANDARD
END:VTIMEZONE
BEGIN:VEVENT
DTSTART;VALUE=DATE:20220908
DTEND;VALUE=DATE:20220910
DTSTAMP:20260421T090931
CREATED:20220801T135700Z
LAST-MODIFIED:20220829T140507Z
UID:35265-1662595200-1662767999@www.improntaetica.org
SUMMARY:8/09 - 9/09 | Strategy Innovation Forum
DESCRIPTION:L’impatto del Deep Tech sui modelli di business.\nGiovedì 8 e venerdì 9 settembre 2022 torna lo Strategy Innovation Forum (SIF) al Campus Economico San Giobbe a Venezia\, la settima edizione che verterà sul tema de “L’impatto del Deep Tech sui modelli di business”. \nSIF 2022 ospita i VeniSIA Days per raccogliere la community di innovatori attorno al tema del Deep Tech quale approccio che le imprese dovranno adottare per sviluppare soluzioni innovative e dirompenti alle principali sfide di sostenibilità. VeniSIA\, l’acceleratore di innovazione sulla sostenibilità\, fa leva sul Deep Tech per identificare\, scalare e commercializzare soluzione tecnologiche attraverso l’innovazione del modello di business. \nDal 2015\, SIF – Strategy Innovation Forum alimenta ogni anno a Veianezia l’unico think tank italiano in materia di innovazione strategica. Il forum coinvolge imprenditori\, manager\, professionisti\, accademici e figure politiche per creare e diffondere conoscenza e relazioni\, a favore della trasformazione del sistema imprenditoriale. \nLa settima edizione si sviluppa in sessioni plenarie e tavoli di lavoro paralleli. \nSarà possibile seguire le giornate di giovedì 8 e venerdì 9 tramite le dirette streaming senza previa iscrizione. \nE’ possibile iscriversi all’evento in presenza al seguente link. \nMaggiori informazioni sono disponibili al seguente link. 
URL:https://www.improntaetica.org/evento/8-09-9-09-strategy-innovation-forum/
ATTACH;FMTTYPE=image/jpeg:https://www.improntaetica.org/wp-content/uploads/2022/08/evento-set-22-e1659362195464.jpg
END:VEVENT
END:VCALENDAR